BEGIN:VCALENDAR
METHOD:PUBLISH
PRODID:-//github.com/rianjs/ical.net//NONSGML ical.net 4.0//EN
URL:https://kingstonstudents.net/ents/event/ics/447/
VERSION:2.0
X-PUBLISHED-TTL:PT1H
X-WR-CALNAME:Meditation and New Year Resolutions (447)
BEGIN:VTIMEZONE
TZID:GMT Standard Time
X-LIC-LOCATION:Europe/London
BEGIN:STANDARD
DTSTART:20241027T020000
RRULE:FREQ=YEARLY;BYDAY=4SU;BYMONTH=10
TZNAME:GMT
TZOFFSETFROM:+0100
TZOFFSETTO:+0000
END:STANDARD
BEGIN:DAYLIGHT
DTSTART:20250330T010000
RRULE:FREQ=YEARLY;BYDAY=-1SU;BYMONTH=3
TZNAME:BST
TZOFFSETFROM:+0000
TZOFFSETTO:+0100
END:DAYLIGHT
END:VTIMEZONE
BEGIN:VEVENT
CATEGORIES:On campus
CATEGORIES:Society Event
CREATED:20250113T115940
DESCRIPTION:Join Scarlett for a session to kickstart the new year.\n\nhttp
 s://kingstonstudents.net/events/7123/447/\n
DTEND:20250113T180000
DTSTAMP:20260420T091541Z
DTSTART:20250113T170000
LAST-MODIFIED:20250113T120008
LOCATION:PRJG1003
SEQUENCE:0
SUMMARY:Meditation and New Year Resolutions
UID:4e666a70-b407-4f6c-954f-04c7995ff208
URL:https://kingstonstudents.net/events/7123/447/
X-ALT-DESC;FMTTYPE=text/html:<html><head><base href="https://kingstonstude
 nts.net"></head><body><p>Join Scarlett for a session to kickstart the new
  year.</p><p>https://kingstonstudents.net/events/7123/447/</p>\n</body></
 html>
END:VEVENT
END:VCALENDAR
